BEGIN:VCALENDAR
VERSION:2.0
PRODID:-//West Central Abilities - ECPv6.14.2//NONSGML v1.0//EN
CALSCALE:GREGORIAN
METHOD:PUBLISH
X-WR-CALNAME:West Central Abilities
X-ORIGINAL-URL:https://www.westcentralabilities.ca
X-WR-CALDESC:Events for West Central Abilities
REFRESH-INTERVAL;VALUE=DURATION:PT1H
X-Robots-Tag:noindex
X-PUBLISHED-TTL:PT1H
BEGIN:VTIMEZONE
TZID:America/Regina
BEGIN:STANDARD
TZOFFSETFROM:-0600
TZOFFSETTO:-0600
TZNAME:CST
DTSTART:20160101T000000
END:STANDARD
END:VTIMEZONE
BEGIN:VEVENT
DTSTART;TZID=America/Regina:20160826T080000
DTEND;TZID=America/Regina:20160826T080000
DTSTAMP:20260421T123441
CREATED:20210208T143912Z
LAST-MODIFIED:20210208T173931Z
UID:2257-1472198400-1472198400@www.westcentralabilities.ca
SUMMARY:Ancient Echoes Interpretive Centre
DESCRIPTION:Trip to Ancient Echoes Interpretive Centre
URL:https://www.westcentralabilities.ca/event/ancient-echoes-interpretive-centre-2/
CATEGORIES:Trips
END:VEVENT
BEGIN:VEVENT
DTSTART;TZID=America/Regina:20160823T080000
DTEND;TZID=America/Regina:20160823T080000
DTSTAMP:20260421T123441
CREATED:20210208T143913Z
LAST-MODIFIED:20210208T174620Z
UID:2258-1471939200-1471939200@www.westcentralabilities.ca
SUMMARY:Saskatoon Forestry Farm and Zoo
DESCRIPTION:Trip to Saskatoon Forestry Farm and Zoo
URL:https://www.westcentralabilities.ca/event/saskatoon-forestry-farm-and-zoo-2/
CATEGORIES:Trips
END:VEVENT
BEGIN:VEVENT
DTSTART;TZID=America/Regina:20160819T080000
DTEND;TZID=America/Regina:20160819T080000
DTSTAMP:20260421T123441
CREATED:20210208T143913Z
LAST-MODIFIED:20210208T174635Z
UID:2259-1471593600-1471593600@www.westcentralabilities.ca
SUMMARY:Saskatoon Train Museum
DESCRIPTION:Trip to Saskatoon Train Museum.
URL:https://www.westcentralabilities.ca/event/saskatoon-train-museum-2/
CATEGORIES:Trips
END:VEVENT
BEGIN:VEVENT
DTSTART;TZID=America/Regina:20160513T080000
DTEND;TZID=America/Regina:20160513T080000
DTSTAMP:20260421T123441
CREATED:20210208T143958Z
LAST-MODIFIED:20210208T175127Z
UID:2275-1463126400-1463126400@www.westcentralabilities.ca
SUMMARY:Trip to Saskatoon to Visit Families
DESCRIPTION:Trip to Saskatoon to visit families.
URL:https://www.westcentralabilities.ca/event/trip-to-saskatoon-to-visit-families-2/
CATEGORIES:Trips
END:VEVENT
END:VCALENDAR